BEGIN:VCALENDAR
VERSION:2.0
PRODID:-//VBC Haßloch e.V. - ECPv6.15.20//NONSGML v1.0//EN
CALSCALE:GREGORIAN
METHOD:PUBLISH
X-ORIGINAL-URL:https://www.vbc-hassloch.de
X-WR-CALDESC:Veranstaltungen für VBC Haßloch e.V.
REFRESH-INTERVAL;VALUE=DURATION:PT1H
X-Robots-Tag:noindex
X-PUBLISHED-TTL:PT1H
BEGIN:VTIMEZONE
TZID:Europe/Berlin
BEGIN:DAYLIGHT
TZOFFSETFROM:+0100
TZOFFSETTO:+0200
TZNAME:CEST
DTSTART:20240331T010000
END:DAYLIGHT
BEGIN:STANDARD
TZOFFSETFROM:+0200
TZOFFSETTO:+0100
TZNAME:CET
DTSTART:20241027T010000
END:STANDARD
BEGIN:DAYLIGHT
TZOFFSETFROM:+0100
TZOFFSETTO:+0200
TZNAME:CEST
DTSTART:20250330T010000
END:DAYLIGHT
BEGIN:STANDARD
TZOFFSETFROM:+0200
TZOFFSETTO:+0100
TZNAME:CET
DTSTART:20251026T010000
END:STANDARD
BEGIN:DAYLIGHT
TZOFFSETFROM:+0100
TZOFFSETTO:+0200
TZNAME:CEST
DTSTART:20260329T010000
END:DAYLIGHT
BEGIN:STANDARD
TZOFFSETFROM:+0200
TZOFFSETTO:+0100
TZNAME:CET
DTSTART:20261025T010000
END:STANDARD
BEGIN:DAYLIGHT
TZOFFSETFROM:+0100
TZOFFSETTO:+0200
TZNAME:CEST
DTSTART:20270328T010000
END:DAYLIGHT
BEGIN:STANDARD
TZOFFSETFROM:+0200
TZOFFSETTO:+0100
TZNAME:CET
DTSTART:20271031T010000
END:STANDARD
END:VTIMEZONE
BEGIN:VEVENT
DTSTART;TZID=Europe/Berlin:20260321T120000
DTEND;TZID=Europe/Berlin:20260321T200000
DTSTAMP:20260421T093559
CREATED:20250924T101357Z
LAST-MODIFIED:20250924T101357Z
UID:4310-1774094400-1774123200@www.vbc-hassloch.de
SUMMARY:Herren "SG" II: 4.Heimspieltag
DESCRIPTION:Sa\, 21.03.26\, 12:00\n69\n \nSG VBC Haßloch / TSG Neustadt II\nTuS Schaidt\nSH RSplus ‚Siebenpfeiffer‘ Haßloch\nSG Westpfalz III\n \n\n\nSa\, 21.03.26\, 12:00\n70\n \nSG VBC Haßloch / TSG Neustadt II\nSG Westpfalz III\nSH RSplus ‚Siebenpfeiffer‘ Haßloch\nTuS Schaidt
URL:https://www.vbc-hassloch.de/event/herren-sg-ii-4-heimspieltag-2/
LOCATION:alte Sporthalle Siebenpfeiffer Realschule Plus\, Böhler Straße 17\, Haßloch\, Rheinland-Pfalz\, 67454\, Deutschland
CATEGORIES:SG Hassloch/Neustadt 2
END:VEVENT
BEGIN:VEVENT
DTSTART;TZID=Europe/Berlin:20260307T170000
DTEND;TZID=Europe/Berlin:20260307T220000
DTSTAMP:20260421T093559
CREATED:20250924T100655Z
LAST-MODIFIED:20250924T101457Z
UID:4301-1772902800-1772920800@www.vbc-hassloch.de
SUMMARY:Herren "SG" I: 4.Heimspieltag
DESCRIPTION:Sa\, 07.03.26\, 17:00 (*)\n65\n \nSG VBC Haßloch / TSG Neustadt\nTS Germersheim II\nSH RSplus ‚Siebenpfeiffer‘ Haßloch\n \n\n\nSa\, 07.03.26\, 17:00 (*)\n66\n \nSG VBC Haßloch / TSG Neustadt\nTV sebamed Bad Salzig II\nSH RSplus ‚Siebenpfeiffer‘ Haßloch
URL:https://www.vbc-hassloch.de/event/herren-sg-i-4-heimspieltag-2/
LOCATION:alte Sporthalle Siebenpfeiffer Realschule Plus\, Böhler Straße 17\, Haßloch\, Rheinland-Pfalz\, 67454\, Deutschland
CATEGORIES:SG Hassloch/Neustadt 1
END:VEVENT
BEGIN:VEVENT
DTSTART;TZID=Europe/Berlin:20260307T120000
DTEND;TZID=Europe/Berlin:20260307T200000
DTSTAMP:20260421T093559
CREATED:20250924T103315Z
LAST-MODIFIED:20250924T103315Z
UID:4332-1772884800-1772913600@www.vbc-hassloch.de
SUMMARY:Damen III: 4.Heimspieltag
DESCRIPTION:Sa\, 07.03.26\, 12:00\n65\n \nVBC Haßloch III\nVSG Edigheim I\nSH RSplus ‚Siebenpfeiffer‘ Haßloch\nVBC Ludwigshafen III\n \n\n\nSa\, 07.03.26\, 12:00\n66\n \nVBC Haßloch III\nVBC Ludwigshafen III\nSH RSplus ‚Siebenpfeiffer‘ Haßloch\nVSG Edigheim I
URL:https://www.vbc-hassloch.de/event/damen-iii-4-heimspieltag/
LOCATION:alte Sporthalle Siebenpfeiffer Realschule Plus\, Böhler Straße 17\, Haßloch\, Rheinland-Pfalz\, 67454\, Deutschland
CATEGORIES:Damen 3
END:VEVENT
BEGIN:VEVENT
DTSTART;TZID=Europe/Berlin:20260222T100000
DTEND;TZID=Europe/Berlin:20260222T180000
DTSTAMP:20260421T093559
CREATED:20250924T102849Z
LAST-MODIFIED:20250924T102849Z
UID:4326-1771754400-1771783200@www.vbc-hassloch.de
SUMMARY:Damen II: 4.Heimspieltag
DESCRIPTION:So\, 22.02.26\, 10:00\n57\n \nVBC Haßloch II\nVBC Ludwigshafen II\nSH RSplus ‚Siebenpfeiffer‘ Haßloch\nVC Hainfeld\n \n\n\nSo\, 22.02.26\, 10:00\n58\n \nVBC Haßloch II\nVC Hainfeld\nSH RSplus ‚Siebenpfeiffer‘ Haßloch\nVBC Ludwigshafen II
URL:https://www.vbc-hassloch.de/event/damen-ii-4-heimspieltag/
LOCATION:alte Sporthalle Siebenpfeiffer Realschule Plus\, Böhler Straße 17\, Haßloch\, Rheinland-Pfalz\, 67454\, Deutschland
CATEGORIES:Damen 2
END:VEVENT
BEGIN:VEVENT
DTSTART;TZID=Europe/Berlin:20260221T163000
DTEND;TZID=Europe/Berlin:20260221T200000
DTSTAMP:20260421T093559
CREATED:20250924T102156Z
LAST-MODIFIED:20250924T102156Z
UID:4316-1771691400-1771704000@www.vbc-hassloch.de
SUMMARY:Herren "SG" III: 3.Heimspieltag
DESCRIPTION:Sa\, 21.02.26\, 16:30 (*)\n43\n \nSG Haßloch / Neustadt III\nASV Landau II\nSH RSplus ‚Siebenpfeiffer‘ Haßloch
URL:https://www.vbc-hassloch.de/event/herren-sg-iii-3-heimspieltag/
LOCATION:alte Sporthalle Siebenpfeiffer Realschule Plus\, Böhler Straße 17\, Haßloch\, Rheinland-Pfalz\, 67454\, Deutschland
CATEGORIES:SG Hassloch/Neustadt 3
END:VEVENT
BEGIN:VEVENT
DTSTART;TZID=Europe/Berlin:20260221T110000
DTEND;TZID=Europe/Berlin:20260221T190000
DTSTAMP:20260421T093559
CREATED:20250924T100056Z
LAST-MODIFIED:20250924T100056Z
UID:4295-1771671600-1771700400@www.vbc-hassloch.de
SUMMARY:Damen I: 5.Heimspieltag
DESCRIPTION:Sa\, 21.02.26\, 11:00\n75\n \nVBC Haßloch\nTV Gau-Algesheim\nSH RSplus ‚Siebenpfeiffer‘ Haßloch\n \n\n\nSa\, 21.02.26\, 11:00\n76\n \nVBC Haßloch\nSG Westpfalz\nSH RSplus ‚Siebenpfeiffer‘ Haßloch
URL:https://www.vbc-hassloch.de/event/damen-i-5-heimspieltag/
LOCATION:alte Sporthalle Siebenpfeiffer Realschule Plus\, Böhler Straße 17\, Haßloch\, Rheinland-Pfalz\, 67454\, Deutschland
CATEGORIES:Damen 1
END:VEVENT
BEGIN:VEVENT
DTSTART;TZID=Europe/Berlin:20260207T170000
DTEND;TZID=Europe/Berlin:20260207T220000
DTSTAMP:20260421T093559
CREATED:20250924T100533Z
LAST-MODIFIED:20250924T100533Z
UID:4299-1770483600-1770501600@www.vbc-hassloch.de
SUMMARY:Herren "SG" I: 3.Heimspieltag
DESCRIPTION:Sa\, 07.02.26\, 17:00 (*)\n49\n \nSG VBC Haßloch / TSG Neustadt\nSG Westerwald Volleys II\nSH RSplus ‚Siebenpfeiffer‘ Haßloch\n \n\n\nSa\, 07.02.26\, 17:00 (*)\n50\n \nSG VBC Haßloch / TSG Neustadt\nVC Mainz\nSH RSplus ‚Siebenpfeiffer‘ Haßloch
URL:https://www.vbc-hassloch.de/event/herren-sg-i-3-heimspieltag-2/
LOCATION:alte Sporthalle Siebenpfeiffer Realschule Plus\, Böhler Straße 17\, Haßloch\, Rheinland-Pfalz\, 67454\, Deutschland
CATEGORIES:SG Hassloch/Neustadt 1
END:VEVENT
BEGIN:VEVENT
DTSTART;TZID=Europe/Berlin:20260207T120000
DTEND;TZID=Europe/Berlin:20260207T200000
DTSTAMP:20260421T093559
CREATED:20250924T103207Z
LAST-MODIFIED:20250924T103207Z
UID:4330-1770465600-1770494400@www.vbc-hassloch.de
SUMMARY:Damen III: 3.Heimspieltag
DESCRIPTION:Sa\, 07.02.26\, 12:00\n49\n \nVBC Haßloch III\nVSG Edigheim II\nSH RSplus ‚Siebenpfeiffer‘ Haßloch\nTS Germersheim III\n \n\n\nSa\, 07.02.26\, 12:00\n50\n \nVBC Haßloch III\nTS Germersheim III\nSH RSplus ‚Siebenpfeiffer‘ Haßloch\nVSG Edigheim II
URL:https://www.vbc-hassloch.de/event/damen-iii-3-heimspieltag/
LOCATION:alte Sporthalle Siebenpfeiffer Realschule Plus\, Böhler Straße 17\, Haßloch\, Rheinland-Pfalz\, 67454\, Deutschland
CATEGORIES:Damen 3
END:VEVENT
BEGIN:VEVENT
DTSTART;TZID=Europe/Berlin:20260201T110000
DTEND;TZID=Europe/Berlin:20260201T190000
DTSTAMP:20260421T093559
CREATED:20250924T103851Z
LAST-MODIFIED:20250924T103851Z
UID:4334-1769943600-1769972400@www.vbc-hassloch.de
SUMMARY:Touche Deluxe: 2.Heimspieltag
DESCRIPTION:So\, 01.02.26\, 11:00\n52\n \nVBC Haßloch Touche Deluxe\nVSG Mixed 1\nSH RSplus ‚Siebenpfeiffer‘ Haßloch\nHinters Netz Landau\n \n\n\nSo\, 01.02.26\, 11:00\n53\n \nVBC Haßloch Touche Deluxe\nHinters Netz Landau\nSH RSplus ‚Siebenpfeiffer‘ Haßloch\nVSG Mixed 1\n 
URL:https://www.vbc-hassloch.de/event/touche-deluxe-2-heimspieltag-2/
LOCATION:alte Sporthalle Siebenpfeiffer Realschule Plus\, Böhler Straße 17\, Haßloch\, Rheinland-Pfalz\, 67454\, Deutschland
CATEGORIES:Touche Deluxe
END:VEVENT
BEGIN:VEVENT
DTSTART;TZID=Europe/Berlin:20260131T140000
DTEND;TZID=Europe/Berlin:20260131T200000
DTSTAMP:20260421T093559
CREATED:20250924T104052Z
LAST-MODIFIED:20250924T104052Z
UID:4336-1769868000-1769889600@www.vbc-hassloch.de
SUMMARY:Netzroller: 2.Heimspieltag
DESCRIPTION:Sa\, 31.01.26\, 14:00\n52\n \nVBC Haßloch Netzroller\nBärenauslese Birkenheide\nSH RSplus ‚Siebenpfeiffer‘ Haßloch\nDie Kampfbienen VTV 3\n \n\n\nSa\, 31.01.26\, 14:00\n53\n \nVBC Haßloch Netzroller\nDie Kampfbienen VTV 3\nSH RSplus ‚Siebenpfeiffer‘ Haßloch\nBärenauslese Birkenheide\n 
URL:https://www.vbc-hassloch.de/event/netzroller-2-heimspieltag-5/
LOCATION:alte Sporthalle Siebenpfeiffer Realschule Plus\, Böhler Straße 17\, Haßloch\, Rheinland-Pfalz\, 67454\, Deutschland
CATEGORIES:Netzroller
END:VEVENT
BEGIN:VEVENT
DTSTART;TZID=Europe/Berlin:20260125T100000
DTEND;TZID=Europe/Berlin:20260125T180000
DTSTAMP:20260421T093559
CREATED:20250924T102739Z
LAST-MODIFIED:20250924T102739Z
UID:4323-1769335200-1769364000@www.vbc-hassloch.de
SUMMARY:Damen II: 3.Heimspieltag
DESCRIPTION:So\, 25.01.26\, 10:00\n45\n \nVBC Haßloch II\nTS Germersheim II\nSH RSplus ‚Siebenpfeiffer‘ Haßloch\nTV Rheinzabern\n \n\n\nSo\, 25.01.26\, 10:00\n46\n \nVBC Haßloch II\nTV Rheinzabern\nSH RSplus ‚Siebenpfeiffer‘ Haßloch\nTS Germersheim II
URL:https://www.vbc-hassloch.de/event/damen-ii-3-heimspieltag/
LOCATION:alte Sporthalle Siebenpfeiffer Realschule Plus\, Böhler Straße 17\, Haßloch\, Rheinland-Pfalz\, 67454\, Deutschland
CATEGORIES:Damen 2
END:VEVENT
BEGIN:VEVENT
DTSTART;TZID=Europe/Berlin:20260124T160000
DTEND;TZID=Europe/Berlin:20260124T220000
DTSTAMP:20260421T093559
CREATED:20250924T095936Z
LAST-MODIFIED:20250924T095936Z
UID:4293-1769270400-1769292000@www.vbc-hassloch.de
SUMMARY:Damen I: 4.Heimspieltag
DESCRIPTION:Sa\, 24.01.26\, 16:00 (*)\n61\n \nVBC Haßloch\nTuS Heiligenstein\nSH RSplus ‚Siebenpfeiffer‘ Haßloch\n \n\n\nSa\, 24.01.26\, 16:00 (*)\n62\n \nVBC Haßloch\nVC Mainz\nSH RSplus ‚Siebenpfeiffer‘ Haßloch
URL:https://www.vbc-hassloch.de/event/damen-i-4-heimspieltag/
LOCATION:alte Sporthalle Siebenpfeiffer Realschule Plus\, Böhler Straße 17\, Haßloch\, Rheinland-Pfalz\, 67454\, Deutschland
CATEGORIES:Damen 1
END:VEVENT
BEGIN:VEVENT
DTSTART;TZID=Europe/Berlin:20260124T100000
DTEND;TZID=Europe/Berlin:20260124T180000
DTSTAMP:20260421T093559
CREATED:20250924T101239Z
LAST-MODIFIED:20250924T101239Z
UID:4308-1769248800-1769277600@www.vbc-hassloch.de
SUMMARY:Herren "SG" II: 3.Heimspieltag
DESCRIPTION:Sa\, 24.01.26\, 10:00\n43\n \nSG VBC Haßloch / TSG Neustadt II\nTV Maximiliansau\nSH RSplus ‚Siebenpfeiffer‘ Haßloch\nTS Germersheim III\n \n\n\nSa\, 24.01.26\, 10:00\n44\n \nSG VBC Haßloch / TSG Neustadt II\nTS Germersheim III\nSH RSplus ‚Siebenpfeiffer‘ Haßloch\nTV Maximiliansau
URL:https://www.vbc-hassloch.de/event/herren-sg-ii-3-heimspieltag-2/
LOCATION:alte Sporthalle Siebenpfeiffer Realschule Plus\, Böhler Straße 17\, Haßloch\, Rheinland-Pfalz\, 67454\, Deutschland
CATEGORIES:SG Hassloch/Neustadt 2
END:VEVENT
BEGIN:VEVENT
DTSTART;TZID=Europe/Berlin:20260117T150000
DTEND;TZID=Europe/Berlin:20260117T220000
DTSTAMP:20260421T093559
CREATED:20250924T101917Z
LAST-MODIFIED:20250924T101932Z
UID:4312-1768662000-1768687200@www.vbc-hassloch.de
SUMMARY:Herren "SG" III: 2.Heimspieltag
DESCRIPTION:Sa\, 17.01.26\, 15:00\n30\n \nSG Haßloch / Neustadt III\nTG Waldsee\nSH RSplus ‚Siebenpfeiffer‘ Haßloch\nSG Südpfalz II\n \n\n\nSa\, 17.01.26\, 15:00\n31\n \nSG Haßloch / Neustadt III\nSG Südpfalz II\nSH RSplus ‚Siebenpfeiffer‘ Haßloch\nTG Waldsee
URL:https://www.vbc-hassloch.de/event/herren-sg-iii-1-heimspieltag/
LOCATION:alte Sporthalle Siebenpfeiffer Realschule Plus\, Böhler Straße 17\, Haßloch\, Rheinland-Pfalz\, 67454\, Deutschland
CATEGORIES:SG Hassloch/Neustadt 3
END:VEVENT
BEGIN:VEVENT
DTSTART;TZID=Europe/Berlin:20260110T120000
DTEND;TZID=Europe/Berlin:20260110T200000
DTSTAMP:20260421T093559
CREATED:20250924T095807Z
LAST-MODIFIED:20250924T095807Z
UID:4291-1768046400-1768075200@www.vbc-hassloch.de
SUMMARY:Damen I: 3.Heimspieltag
DESCRIPTION:Sa\, 10.01.26\, 12:00\n49\n \nVBC Haßloch\nVC Neuwied 77 II\nSH RSplus ‚Siebenpfeiffer‘ Haßloch\n \n\n\nSa\, 10.01.26\, 12:00\n50\n \nVBC Haßloch\nSG Westerwald Volleys\nSH RSplus ‚Siebenpfeiffer‘ Haßloch
URL:https://www.vbc-hassloch.de/event/damen-i-3-heimspieltag/
LOCATION:alte Sporthalle Siebenpfeiffer Realschule Plus\, Böhler Straße 17\, Haßloch\, Rheinland-Pfalz\, 67454\, Deutschland
CATEGORIES:Damen 1
END:VEVENT
BEGIN:VEVENT
DTSTART;TZID=Europe/Berlin:20251207T120000
DTEND;TZID=Europe/Berlin:20251207T200000
DTSTAMP:20260421T093559
CREATED:20250924T100406Z
LAST-MODIFIED:20250924T100406Z
UID:4297-1765108800-1765137600@www.vbc-hassloch.de
SUMMARY:Herren "SG" I: 2.Heimspieltag
DESCRIPTION:So\, 07.12.25\, 12:00\n29\n \nSG VBC Haßloch / TSG Neustadt\nTV Feldkirchen II\nSZ Böbig Neustadt a.d.W.\n \n\n\nSo\, 07.12.25\, 12:00\n30\n \nSG VBC Haßloch / TSG Neustadt\nTSG Mainz-Bretzenheim\nSZ Böbig Neustadt a.d.W.
URL:https://www.vbc-hassloch.de/event/herren-sg-i-2-heimspieltag-2/
LOCATION:Schulzentrum Böbig\, Martin-Luther-Str. 44\, Neustadt\, Rheinland-Pfalz\, 67433\, Deutschland
CATEGORIES:SG Hassloch/Neustadt 1
END:VEVENT
BEGIN:VEVENT
DTSTART;TZID=Europe/Berlin:20251206T160000
DTEND;TZID=Europe/Berlin:20251206T220000
DTSTAMP:20260421T093559
CREATED:20250924T101116Z
LAST-MODIFIED:20250924T101600Z
UID:4306-1765036800-1765058400@www.vbc-hassloch.de
SUMMARY:Herren "SG" II: 2.Heimspieltag
DESCRIPTION:Sa\, 06.12.25\, 16:00\n27\n \nSG VBC Haßloch / TSG Neustadt II\nVTV Mundenheim\nSH RSplus ‚Siebenpfeiffer‘ Haßloch\nTSV Speyer II\n \n\n\nSa\, 06.12.25\, 16:00\n28\n \nSG VBC Haßloch / TSG Neustadt II\nTSV Speyer II\nSH RSplus ‚Siebenpfeiffer‘ Haßloch\nVTV Mundenheim
URL:https://www.vbc-hassloch.de/event/herren-sg-ii-2-heimspieltag-2/
LOCATION:alte Sporthalle Siebenpfeiffer Realschule Plus\, Böhler Straße 17\, Haßloch\, Rheinland-Pfalz\, 67454\, Deutschland
CATEGORIES:SG Hassloch/Neustadt 2
END:VEVENT
BEGIN:VEVENT
DTSTART;TZID=Europe/Berlin:20251206T100000
DTEND;TZID=Europe/Berlin:20251206T180000
DTSTAMP:20260421T093559
CREATED:20250924T103044Z
LAST-MODIFIED:20250924T103044Z
UID:4328-1765015200-1765044000@www.vbc-hassloch.de
SUMMARY:Damen III: 2.Heimspieltag
DESCRIPTION:Sa\, 06.12.25\, 10:00\n29\n \nVBC Haßloch III\nTV Rodenbach III\nSH RSplus ‚Siebenpfeiffer‘ Haßloch\nVBC Ludwigshafen IV\n \n\n\nSa\, 06.12.25\, 10:00\n30\n \nVBC Haßloch III\nVBC Ludwigshafen IV\nSH RSplus ‚Siebenpfeiffer‘ Haßloch\nTV Rodenbach III
URL:https://www.vbc-hassloch.de/event/damen-iii-2-heimspieltag/
LOCATION:alte Sporthalle Siebenpfeiffer Realschule Plus\, Böhler Straße 17\, Haßloch\, Rheinland-Pfalz\, 67454\, Deutschland
CATEGORIES:Damen 3
END:VEVENT
BEGIN:VEVENT
DTSTART;TZID=Europe/Berlin:20251123T100000
DTEND;TZID=Europe/Berlin:20251123T180000
DTSTAMP:20260421T093559
CREATED:20250924T102633Z
LAST-MODIFIED:20250924T102633Z
UID:4321-1763892000-1763920800@www.vbc-hassloch.de
SUMMARY:Damen II: 2.Heimspieltag
DESCRIPTION:So\, 23.11.25\, 10:00\n21\n \nVBC Haßloch II\nTuS Heiligenstein III\nSH RSplus ‚Siebenpfeiffer‘ Haßloch\nASV Landau III\n \n\n\nSo\, 23.11.25\, 10:00\n22\n \nVBC Haßloch II\nASV Landau III\nSH RSplus ‚Siebenpfeiffer‘ Haßloch\nTuS Heiligenstein III
URL:https://www.vbc-hassloch.de/event/damen-ii-2-heimspieltag/
LOCATION:alte Sporthalle Siebenpfeiffer Realschule Plus\, Böhler Straße 17\, Haßloch\, Rheinland-Pfalz\, 67454\, Deutschland
CATEGORIES:Damen 2
END:VEVENT
BEGIN:VEVENT
DTSTART;TZID=Europe/Berlin:20251122T120000
DTEND;TZID=Europe/Berlin:20251122T200000
DTSTAMP:20260421T093559
CREATED:20250924T095614Z
LAST-MODIFIED:20250924T095614Z
UID:4289-1763812800-1763841600@www.vbc-hassloch.de
SUMMARY:Damen I: 2.Heimspieltag
DESCRIPTION:Sa\, 22.11.25\, 12:00\n33\n \nVBC Haßloch\nSG Westpfalz\nSH RSplus ‚Siebenpfeiffer‘ Haßloch\n \n\n\nSa\, 22.11.25\, 12:00\n34\n \nVBC Haßloch\nTGM Mainz-Gonsenheim II\nSH RSplus ‚Siebenpfeiffer‘ Haßloch
URL:https://www.vbc-hassloch.de/event/damen-i-2-heimspieltag-2/
LOCATION:alte Sporthalle Siebenpfeiffer Realschule Plus\, Böhler Straße 17\, Haßloch\, Rheinland-Pfalz\, 67454\, Deutschland
CATEGORIES:Damen 1
END:VEVENT
BEGIN:VEVENT
DTSTART;TZID=Europe/Berlin:20251109T100000
DTEND;TZID=Europe/Berlin:20251109T180000
DTSTAMP:20260421T093559
CREATED:20250924T102517Z
LAST-MODIFIED:20250924T102517Z
UID:4319-1762682400-1762711200@www.vbc-hassloch.de
SUMMARY:Damen II: 1.Heimspieltag
DESCRIPTION:So\, 09.11.25\, 10:00\n15\n \nVBC Haßloch II\nTV Rodenbach II\nSH RSplus ‚Siebenpfeiffer‘ Haßloch\nVTV Mundenheim\n \n\n\nSo\, 09.11.25\, 10:00\n16\n \nVBC Haßloch II\nVTV Mundenheim\nSH RSplus ‚Siebenpfeiffer‘ Haßloch\nTV Rodenbach II
URL:https://www.vbc-hassloch.de/event/damen-ii-1-heimspieltag/
LOCATION:alte Sporthalle Siebenpfeiffer Realschule Plus\, Böhler Straße 17\, Haßloch\, Rheinland-Pfalz\, 67454\, Deutschland
CATEGORIES:Damen 2
END:VEVENT
BEGIN:VEVENT
DTSTART;TZID=Europe/Berlin:20251108T120000
DTEND;TZID=Europe/Berlin:20251108T200000
DTSTAMP:20260421T093559
CREATED:20250924T100939Z
LAST-MODIFIED:20250924T100939Z
UID:4304-1762603200-1762632000@www.vbc-hassloch.de
SUMMARY:Herren "SG" II: 1.Heimspieltag
DESCRIPTION:Sa\, 08.11.25\, 12:00\n13\n \nSG VBC Haßloch / TSG Neustadt II\nVC Hainfeld\nSH RSplus ‚Siebenpfeiffer‘ Haßloch\nSG Westpfalz II\n \n\n\nSa\, 08.11.25\, 12:00\n14\n \nSG VBC Haßloch / TSG Neustadt II\nSG Westpfalz II\nSH RSplus ‚Siebenpfeiffer‘ Haßloch\nVC Hainfeld
URL:https://www.vbc-hassloch.de/event/herren-sg-ii-1-heimspieltag-2/
LOCATION:alte Sporthalle Siebenpfeiffer Realschule Plus\, Böhler Straße 17\, Haßloch\, Rheinland-Pfalz\, 67454\, Deutschland
CATEGORIES:SG Hassloch/Neustadt 2
END:VEVENT
BEGIN:VEVENT
DTSTART;VALUE=DATE:20250906
DTEND;VALUE=DATE:20250907
DTSTAMP:20260421T093559
CREATED:20250408T071456Z
LAST-MODIFIED:20250408T071456Z
UID:4225-1757116800-1757203199@www.vbc-hassloch.de
SUMMARY:Beach Mixed
DESCRIPTION:
URL:https://www.vbc-hassloch.de/event/beach-mixed-2/
LOCATION:Beacharena\, VBC Hassloch e.V. Beachanlage\, Haßloch\, Rheinland-Pfalz\, 67454\, Deutschland
CATEGORIES:Beach
END:VEVENT
BEGIN:VEVENT
DTSTART;VALUE=DATE:20250712
DTEND;VALUE=DATE:20250713
DTSTAMP:20260421T093559
CREATED:20250408T071603Z
LAST-MODIFIED:20250408T071603Z
UID:4230-1752278400-1752364799@www.vbc-hassloch.de
SUMMARY:Beach C-Turnier
DESCRIPTION:
URL:https://www.vbc-hassloch.de/event/beach-c-turnier-2/
LOCATION:Beacharena\, VBC Hassloch e.V. Beachanlage\, Haßloch\, Rheinland-Pfalz\, 67454\, Deutschland
CATEGORIES:Beach
END:VEVENT
BEGIN:VEVENT
DTSTART;VALUE=DATE:20250531
DTEND;VALUE=DATE:20250601
DTSTAMP:20260421T093559
CREATED:20250408T071527Z
LAST-MODIFIED:20250408T071527Z
UID:4228-1748649600-1748735999@www.vbc-hassloch.de
SUMMARY:Beach C-Turnier
DESCRIPTION:
URL:https://www.vbc-hassloch.de/event/beach-c-turnier/
LOCATION:Beacharena\, VBC Hassloch e.V. Beachanlage\, Haßloch\, Rheinland-Pfalz\, 67454\, Deutschland
CATEGORIES:Beach
END:VEVENT
BEGIN:VEVENT
DTSTART;VALUE=DATE:20250524
DTEND;VALUE=DATE:20250525
DTSTAMP:20260421T093559
CREATED:20250408T071411Z
LAST-MODIFIED:20250408T071411Z
UID:4223-1748044800-1748131199@www.vbc-hassloch.de
SUMMARY:Beach Mixed
DESCRIPTION:
URL:https://www.vbc-hassloch.de/event/beach-mixed/
LOCATION:Beacharena\, VBC Hassloch e.V. Beachanlage\, Haßloch\, Rheinland-Pfalz\, 67454\, Deutschland
CATEGORIES:Beach
END:VEVENT
BEGIN:VEVENT
DTSTART;TZID=Europe/Berlin:20250514T190000
DTEND;TZID=Europe/Berlin:20250514T220000
DTSTAMP:20260421T093559
CREATED:20250411T122031Z
LAST-MODIFIED:20250411T122122Z
UID:4242-1747249200-1747260000@www.vbc-hassloch.de
SUMMARY:Mitgliederversammlung 2025
DESCRIPTION:
URL:https://www.vbc-hassloch.de/event/mitgliederversammlung/
LOCATION:Beacharena\, VBC Hassloch e.V. Beachanlage\, Haßloch\, Rheinland-Pfalz\, 67454\, Deutschland
CATEGORIES:VBC
END:VEVENT
BEGIN:VEVENT
DTSTART;TZID=Europe/Berlin:20250329T170000
DTEND;TZID=Europe/Berlin:20250329T220000
DTSTAMP:20260421T093559
CREATED:20240916T193326Z
LAST-MODIFIED:20240916T193326Z
UID:4100-1743267600-1743285600@www.vbc-hassloch.de
SUMMARY:Herren "SG" I: 4.Heimspieltag
DESCRIPTION:SG VBC Haßloch / TSG Neustadt\nTV Hechtsheim\n\n\nSG VBC Haßloch / TSG Neustadt\nTuS Gensingen
URL:https://www.vbc-hassloch.de/event/herren-sg-i-4-heimspieltag/
LOCATION:Sporthalle Siebenpfeiffer Realschule Plus\, Raiffeisenstr. 27\, Haßloch\, Rheinland-Pfalz\, 67454\, Deutschland
CATEGORIES:SG Hassloch/Neustadt 1
END:VEVENT
BEGIN:VEVENT
DTSTART;TZID=Europe/Berlin:20250329T100000
DTEND;TZID=Europe/Berlin:20250329T150000
DTSTAMP:20260421T093559
CREATED:20240916T194003Z
LAST-MODIFIED:20240916T194003Z
UID:4108-1743242400-1743260400@www.vbc-hassloch.de
SUMMARY:Herren "SG" II: 4.Heimspieltag
DESCRIPTION:SG VBC Haßloch / TSG Neustadt II\nSG Westpfalz IV\n\n\nSG VBC Haßloch / TSG Neustadt II\nTS Germersheim IV
URL:https://www.vbc-hassloch.de/event/herren-sg-ii-4-heimspieltag/
LOCATION:Sporthalle Siebenpfeiffer Realschule Plus\, Raiffeisenstr. 27\, Haßloch\, Rheinland-Pfalz\, 67454\, Deutschland
CATEGORIES:SG Hassloch/Neustadt 2
END:VEVENT
BEGIN:VEVENT
DTSTART;TZID=Europe/Berlin:20250316T110000
DTEND;TZID=Europe/Berlin:20250316T160000
DTSTAMP:20260421T093559
CREATED:20240912T132143Z
LAST-MODIFIED:20240912T133422Z
UID:4052-1742122800-1742140800@www.vbc-hassloch.de
SUMMARY:Damen II: 4.Heimspieltag
DESCRIPTION:VBC Haßloch II\nSC Mutterstadt II\n\n\nVBC Haßloch II\nASV Landau III
URL:https://www.vbc-hassloch.de/event/d-ii-4-heimspieltag-4/
LOCATION:Sporthalle Siebenpfeiffer Realschule Plus\, Raiffeisenstr. 27\, Haßloch\, Rheinland-Pfalz\, 67454\, Deutschland
CATEGORIES:Damen 2
END:VEVENT
END:VCALENDAR