BEGIN:VCALENDAR
VERSION:2.0
PRODID:-//VBC Haßloch e.V. - ECPv6.15.20//NONSGML v1.0//EN
CALSCALE:GREGORIAN
METHOD:PUBLISH
X-WR-CALNAME:VBC Haßloch e.V.
X-ORIGINAL-URL:https://www.vbc-hassloch.de
X-WR-CALDESC:Veranstaltungen für VBC Haßloch e.V.
REFRESH-INTERVAL;VALUE=DURATION:PT1H
X-Robots-Tag:noindex
X-PUBLISHED-TTL:PT1H
BEGIN:VTIMEZONE
TZID:Europe/Berlin
BEGIN:DAYLIGHT
TZOFFSETFROM:+0100
TZOFFSETTO:+0200
TZNAME:CEST
DTSTART:20230326T010000
END:DAYLIGHT
BEGIN:STANDARD
TZOFFSETFROM:+0200
TZOFFSETTO:+0100
TZNAME:CET
DTSTART:20231029T010000
END:STANDARD
BEGIN:DAYLIGHT
TZOFFSETFROM:+0100
TZOFFSETTO:+0200
TZNAME:CEST
DTSTART:20240331T010000
END:DAYLIGHT
BEGIN:STANDARD
TZOFFSETFROM:+0200
TZOFFSETTO:+0100
TZNAME:CET
DTSTART:20241027T010000
END:STANDARD
BEGIN:DAYLIGHT
TZOFFSETFROM:+0100
TZOFFSETTO:+0200
TZNAME:CEST
DTSTART:20250330T010000
END:DAYLIGHT
BEGIN:STANDARD
TZOFFSETFROM:+0200
TZOFFSETTO:+0100
TZNAME:CET
DTSTART:20251026T010000
END:STANDARD
END:VTIMEZONE
BEGIN:VEVENT
DTSTART;TZID=Europe/Berlin:20241109T170000
DTEND;TZID=Europe/Berlin:20241109T220000
DTSTAMP:20260424T083715
CREATED:20240916T193533Z
LAST-MODIFIED:20240916T193533Z
UID:4102-1731171600-1731189600@www.vbc-hassloch.de
SUMMARY:Herren "SG" II: 1.Heimspieltag
DESCRIPTION:SG VBC Haßloch / TSG Neustadt II\nTV Lemberg\n\n\nSG VBC Haßloch / TSG Neustadt II\nTSG Grünstadt
URL:https://www.vbc-hassloch.de/event/herren-sg-ii-1-heimspieltag/
LOCATION:Sporthalle Siebenpfeiffer Realschule Plus\, Raiffeisenstr. 27\, Haßloch\, Rheinland-Pfalz\, 67454\, Deutschland
CATEGORIES:SG Hassloch/Neustadt 2
END:VEVENT
END:VCALENDAR